Package: fastreeR Version: 1.12.5 Command: /home/biocbuild/R/R/bin/R CMD build --keep-empty-dirs --no-resave-data fastreeR StartedAt: 2025-09-30 01:16:57 -0000 (Tue, 30 Sep 2025) EndedAt: 2025-09-30 01:18:00 -0000 (Tue, 30 Sep 2025) EllapsedTime: 62.2 seconds RetCode: 0 Status: OK PackageFile: fastreeR_1.12.5.tar.gz PackageFileSize: 2.884 MiB