Package: fastreeR Version: 1.12.5 Command: /Library/Frameworks/R.framework/Resources/bin/R CMD build --keep-empty-dirs --no-resave-data fastreeR StartedAt: 2025-10-14 00:16:57 -0400 (Tue, 14 Oct 2025) EndedAt: 2025-10-14 00:18:01 -0400 (Tue, 14 Oct 2025) EllapsedTime: 64.1 seconds RetCode: 0 Status: OK PackageFile: fastreeR_1.12.5.tar.gz PackageFileSize: 2.854 MiB