Package: fastLiquidAssociation Version: 1.46.0 Command: /home/biocbuild/bbs-3.22-bioc/R/bin/R CMD build --keep-empty-dirs --no-resave-data --md5 fastLiquidAssociation StartedAt: 2025-11-11 17:41:26 -0500 (Tue, 11 Nov 2025) EndedAt: 2025-11-11 17:42:47 -0500 (Tue, 11 Nov 2025) EllapsedTime: 81.2 seconds RetCode: 0 Status: OK PackageFile: fastLiquidAssociation_1.46.0.tar.gz PackageFileSize: 751.2 KiB