Package: fastLiquidAssociation Version: 1.46.0 Command: /Library/Frameworks/R.framework/Resources/bin/R CMD INSTALL fastLiquidAssociation StartedAt: 2025-11-03 15:40:16 -0500 (Mon, 03 Nov 2025) EndedAt: 2025-11-03 15:40:46 -0500 (Mon, 03 Nov 2025) EllapsedTime: 30.3 seconds RetCode: 0 Status: OK