Package: fastLiquidAssociation Version: 1.46.0 Command: /Library/Frameworks/R.framework/Resources/bin/R CMD build --keep-empty-dirs --no-resave-data fastLiquidAssociation StartedAt: 2025-11-03 17:00:47 -0500 (Mon, 03 Nov 2025) EndedAt: 2025-11-03 17:02:28 -0500 (Mon, 03 Nov 2025) EllapsedTime: 100.1 seconds RetCode: 0 Status: OK PackageFile: fastLiquidAssociation_1.46.0.tar.gz PackageFileSize: 749.6 KiB