Package: fastLiquidAssociation Version: 1.46.0 Command: rm -rf fastLiquidAssociation.buildbin-libdir && mkdir fastLiquidAssociation.buildbin-libdir && /Users/biocbuild/BBS/utils/build-universal.sh fastLiquidAssociation_1.46.0.tar.gz /Library/Frameworks/R.framework/Resources/bin/R fastLiquidAssociation.buildbin-libdir StartedAt: 2025-11-04 01:39:59 -0500 (Tue, 04 Nov 2025) EndedAt: 2025-11-04 01:40:34 -0500 (Tue, 04 Nov 2025) EllapsedTime: 34.7 seconds RetCode: 0 Status: OK PackageFile: fastLiquidAssociation_1.46.0.tgz PackageFileSize: 660 KiB