Package: factR Version: 1.12.0 Command: /home/biocbuild/bbs-3.22-bioc/R/bin/R CMD build --keep-empty-dirs --no-resave-data --md5 factR StartedAt: 2025-11-13 17:39:40 -0500 (Thu, 13 Nov 2025) EndedAt: 2025-11-13 17:42:01 -0500 (Thu, 13 Nov 2025) EllapsedTime: 141.1 seconds RetCode: 0 Status: OK PackageFile: factR_1.12.0.tar.gz PackageFileSize: 1.794 MiB