Package: factR Version: 1.10.0 Command: /Library/Frameworks/R.framework/Resources/bin/R CMD INSTALL factR StartedAt: 2025-04-21 15:20:35 -0400 (Mon, 21 Apr 2025) EndedAt: 2025-04-21 15:20:39 -0400 (Mon, 21 Apr 2025) EllapsedTime: 4.2 seconds RetCode: 0 Status: OK