Package: factDesign Version: 1.86.0 Command: /home/biocbuild/bbs-3.22-bioc/R/bin/R CMD check --install=check:factDesign.install-out.txt --library=/home/biocbuild/bbs-3.22-bioc/R/site-library --timings factDesign_1.86.0.tar.gz StartedAt: 2025-11-11 23:40:20 -0500 (Tue, 11 Nov 2025) EndedAt: 2025-11-11 23:40:50 -0500 (Tue, 11 Nov 2025) EllapsedTime: 30.1 seconds RetCode: 0 Status: OK CheckDir: factDesign.Rcheck Warnings: 0