Package: factDesign Version: 1.86.0 Command: /home/biocbuild/bbs-3.22-bioc/R/bin/R CMD build --keep-empty-dirs --no-resave-data --md5 factDesign StartedAt: 2025-11-11 17:41:08 -0500 (Tue, 11 Nov 2025) EndedAt: 2025-11-11 17:41:17 -0500 (Tue, 11 Nov 2025) EllapsedTime: 9.0 seconds RetCode: 0 Status: OK PackageFile: factDesign_1.86.0.tar.gz PackageFileSize: 217.7 KiB