Package: factDesign Version: 1.84.0 Command: /home/biocbuild/bbs-3.21-bioc/R/bin/R CMD INSTALL factDesign StartedAt: 2025-10-15 15:12:10 -0400 (Wed, 15 Oct 2025) EndedAt: 2025-10-15 15:12:12 -0400 (Wed, 15 Oct 2025) EllapsedTime: 2.4 seconds RetCode: 0 Status: OK