Package: factDesign Version: 1.84.0 Command: /home/biocbuild/R/R/bin/R CMD INSTALL factDesign StartedAt: 2025-09-25 20:25:05 -0000 (Thu, 25 Sep 2025) EndedAt: 2025-09-25 20:25:09 -0000 (Thu, 25 Sep 2025) EllapsedTime: 3.9 seconds RetCode: 0 Status: OK