Package: factDesign Version: 1.84.0 Command: /Library/Frameworks/R.framework/Resources/bin/R CMD INSTALL factDesign StartedAt: 2025-10-13 15:35:49 -0400 (Mon, 13 Oct 2025) EndedAt: 2025-10-13 15:35:53 -0400 (Mon, 13 Oct 2025) EllapsedTime: 3.5 seconds RetCode: 0 Status: OK