Package: factDesign Version: 1.84.0 Command: /Library/Frameworks/R.framework/Resources/bin/R CMD build --keep-empty-dirs --no-resave-data factDesign StartedAt: 2025-10-14 00:14:27 -0400 (Tue, 14 Oct 2025) EndedAt: 2025-10-14 00:14:41 -0400 (Tue, 14 Oct 2025) EllapsedTime: 13.8 seconds RetCode: 0 Status: OK PackageFile: factDesign_1.84.0.tar.gz PackageFileSize: 217 KiB