Package: fCI Version: 1.40.0 Command: /Library/Frameworks/R.framework/Resources/bin/R CMD build --keep-empty-dirs --no-resave-data fCI StartedAt: 2025-11-03 17:00:56 -0500 (Mon, 03 Nov 2025) EndedAt: 2025-11-03 17:01:39 -0500 (Mon, 03 Nov 2025) EllapsedTime: 43.1 seconds RetCode: 0 Status: OK PackageFile: fCI_1.40.0.tar.gz PackageFileSize: 1.322 MiB