Package: fCI Version: 1.38.0 Command: /home/biocbuild/R/R/bin/R CMD INSTALL fCI StartedAt: 2025-10-13 20:17:56 -0000 (Mon, 13 Oct 2025) EndedAt: 2025-10-13 20:18:41 -0000 (Mon, 13 Oct 2025) EllapsedTime: 44.7 seconds RetCode: 0 Status: OK