Package: fCI Version: 1.38.0 Command: /home/biocbuild/R/R/bin/R CMD build --keep-empty-dirs --no-resave-data fCI StartedAt: 2025-10-14 00:50:19 -0000 (Tue, 14 Oct 2025) EndedAt: 2025-10-14 00:51:08 -0000 (Tue, 14 Oct 2025) EllapsedTime: 49.1 seconds RetCode: 0 Status: OK PackageFile: fCI_1.38.0.tar.gz PackageFileSize: 1.31 MiB