Package: fCCAC Version: 1.36.0 Command: /home/biocbuild/bbs-3.22-bioc/R/bin/R CMD INSTALL fCCAC StartedAt: 2025-11-11 15:34:05 -0500 (Tue, 11 Nov 2025) EndedAt: 2025-11-11 15:34:43 -0500 (Tue, 11 Nov 2025) EllapsedTime: 37.3 seconds RetCode: 0 Status: OK