Package: fCCAC Version: 1.34.0 Command: /home/biocbuild/R/R/bin/R CMD build --keep-empty-dirs --no-resave-data fCCAC StartedAt: 2025-10-14 00:50:07 -0000 (Tue, 14 Oct 2025) EndedAt: 2025-10-14 00:51:35 -0000 (Tue, 14 Oct 2025) EllapsedTime: 88.1 seconds RetCode: 0 Status: OK PackageFile: fCCAC_1.34.0.tar.gz PackageFileSize: 3.492 MiB