Package: fCCAC Version: 1.36.0 Command: /Library/Frameworks/R.framework/Resources/bin/R CMD INSTALL fCCAC StartedAt: 2025-11-02 15:17:35 -0500 (Sun, 02 Nov 2025) EndedAt: 2025-11-02 15:17:52 -0500 (Sun, 02 Nov 2025) EllapsedTime: 16.3 seconds RetCode: 0 Status: OK