Package: fCCAC Version: 1.36.0 Command: /Library/Frameworks/R.framework/Resources/bin/R CMD build --keep-empty-dirs --no-resave-data fCCAC StartedAt: 2025-11-03 16:23:35 -0500 (Mon, 03 Nov 2025) EndedAt: 2025-11-03 16:24:01 -0500 (Mon, 03 Nov 2025) EllapsedTime: 25.3 seconds RetCode: 0 Status: OK PackageFile: fCCAC_1.36.0.tar.gz PackageFileSize: 3.498 MiB