Package: fCCAC Version: 1.36.0 Command: rm -rf fCCAC.buildbin-libdir && mkdir fCCAC.buildbin-libdir && /Users/biocbuild/BBS/utils/build-universal.sh fCCAC_1.36.0.tar.gz /Library/Frameworks/R.framework/Resources/bin/R fCCAC.buildbin-libdir StartedAt: 2025-11-02 23:04:42 -0500 (Sun, 02 Nov 2025) EndedAt: 2025-11-02 23:05:00 -0500 (Sun, 02 Nov 2025) EllapsedTime: 17.4 seconds RetCode: 0 Status: OK PackageFile: fCCAC_1.36.0.tgz PackageFileSize: 3.532 MiB