Package: extraChIPs Version: 1.14.0 Command: /home/biocbuild/bbs-3.22-bioc/R/bin/R CMD INSTALL extraChIPs StartedAt: 2025-11-13 15:30:30 -0500 (Thu, 13 Nov 2025) EndedAt: 2025-11-13 15:31:13 -0500 (Thu, 13 Nov 2025) EllapsedTime: 43.2 seconds RetCode: 0 Status: OK