Package: extraChIPs Version: 1.14.0 Command: /home/biocbuild/bbs-3.22-bioc/R/bin/R CMD build --keep-empty-dirs --no-resave-data --md5 extraChIPs StartedAt: 2025-11-13 17:39:31 -0500 (Thu, 13 Nov 2025) EndedAt: 2025-11-13 17:41:13 -0500 (Thu, 13 Nov 2025) EllapsedTime: 102.1 seconds RetCode: 0 Status: OK PackageFile: extraChIPs_1.14.0.tar.gz PackageFileSize: 3.759 MiB