Package: extraChIPs Version: 1.14.0 Command: /Library/Frameworks/R.framework/Resources/bin/R CMD INSTALL extraChIPs StartedAt: 2025-11-10 15:17:20 -0500 (Mon, 10 Nov 2025) EndedAt: 2025-11-10 15:17:38 -0500 (Mon, 10 Nov 2025) EllapsedTime: 17.6 seconds RetCode: 0 Status: OK