Package: extraChIPs Version: 1.14.0 Command: /Library/Frameworks/R.framework/Resources/bin/R CMD build --keep-empty-dirs --no-resave-data extraChIPs StartedAt: 2025-11-10 16:23:02 -0500 (Mon, 10 Nov 2025) EndedAt: 2025-11-10 16:23:44 -0500 (Mon, 10 Nov 2025) EllapsedTime: 42.5 seconds RetCode: 0 Status: OK PackageFile: extraChIPs_1.14.0.tar.gz PackageFileSize: 3.873 MiB