Package: extraChIPs Version: 1.14.0 Command: rm -rf extraChIPs.buildbin-libdir && mkdir extraChIPs.buildbin-libdir && /Users/biocbuild/BBS/utils/build-universal.sh extraChIPs_1.14.0.tar.gz /Library/Frameworks/R.framework/Resources/bin/R extraChIPs.buildbin-libdir StartedAt: 2025-11-10 23:19:47 -0500 (Mon, 10 Nov 2025) EndedAt: 2025-11-10 23:20:06 -0500 (Mon, 10 Nov 2025) EllapsedTime: 19.4 seconds RetCode: 0 Status: OK PackageFile: extraChIPs_1.14.0.tgz PackageFileSize: 2.837 MiB