Package: evaluomeR Version: 1.26.0 Command: /home/biocbuild/R/R/bin/R CMD INSTALL evaluomeR StartedAt: 2025-11-10 21:41:33 -0000 (Mon, 10 Nov 2025) EndedAt: 2025-11-10 21:42:28 -0000 (Mon, 10 Nov 2025) EllapsedTime: 54.9 seconds RetCode: 0 Status: OK