Package: evaluomeR Version: 1.26.0 Command: /home/biocbuild/R/R/bin/R CMD build --keep-empty-dirs --no-resave-data evaluomeR StartedAt: 2025-11-11 01:35:10 -0000 (Tue, 11 Nov 2025) EndedAt: 2025-11-11 01:36:38 -0000 (Tue, 11 Nov 2025) EllapsedTime: 88.0 seconds RetCode: 0 Status: OK PackageFile: evaluomeR_1.26.0.tar.gz PackageFileSize: 942.7 KiB