Package: evaluomeR Version: 1.24.0 Command: /Library/Frameworks/R.framework/Resources/bin/R CMD INSTALL evaluomeR StartedAt: 2025-10-09 16:59:56 -0400 (Thu, 09 Oct 2025) EndedAt: 2025-10-09 17:00:44 -0400 (Thu, 09 Oct 2025) EllapsedTime: 48.7 seconds RetCode: 0 Status: OK