Package: esetVis Version: 1.36.0 Command: /home/biocbuild/bbs-3.22-bioc/R/bin/R CMD INSTALL esetVis StartedAt: 2025-11-17 17:21:05 -0500 (Mon, 17 Nov 2025) EndedAt: 2025-11-17 17:21:18 -0500 (Mon, 17 Nov 2025) EllapsedTime: 13.7 seconds RetCode: 0 Status: OK