Package: escheR Version: 1.10.0 Command: /home/biocbuild/bbs-3.22-bioc/R/bin/R CMD INSTALL escheR StartedAt: 2025-11-11 15:27:14 -0500 (Tue, 11 Nov 2025) EndedAt: 2025-11-11 15:27:39 -0500 (Tue, 11 Nov 2025) EllapsedTime: 24.7 seconds RetCode: 0 Status: OK