Package: escheR Version: 1.10.0 Command: /home/biocbuild/bbs-3.22-bioc/R/bin/R CMD build --keep-empty-dirs --no-resave-data --md5 escheR StartedAt: 2025-11-11 17:39:30 -0500 (Tue, 11 Nov 2025) EndedAt: 2025-11-11 17:41:49 -0500 (Tue, 11 Nov 2025) EllapsedTime: 139.1 seconds RetCode: 0 Status: OK PackageFile: escheR_1.10.0.tar.gz PackageFileSize: 2.911 MiB