Package: escheR Version: 1.10.0 Command: /Library/Frameworks/R.framework/Resources/bin/R CMD INSTALL escheR StartedAt: 2025-11-10 15:14:38 -0500 (Mon, 10 Nov 2025) EndedAt: 2025-11-10 15:14:48 -0500 (Mon, 10 Nov 2025) EllapsedTime: 10.2 seconds RetCode: 0 Status: OK