Package: escheR Version: 1.10.0 Command: /Library/Frameworks/R.framework/Resources/bin/R CMD build --keep-empty-dirs --no-resave-data escheR StartedAt: 2025-11-10 16:22:08 -0500 (Mon, 10 Nov 2025) EndedAt: 2025-11-10 16:23:00 -0500 (Mon, 10 Nov 2025) EllapsedTime: 51.6 seconds RetCode: 0 Status: OK PackageFile: escheR_1.10.0.tar.gz PackageFileSize: 3.545 MiB