Package: escape Version: 2.6.1 Command: /home/biocbuild/bbs-3.22-bioc/R/bin/R CMD INSTALL escape StartedAt: 2025-11-06 15:18:20 -0500 (Thu, 06 Nov 2025) EndedAt: 2025-11-06 15:18:47 -0500 (Thu, 06 Nov 2025) EllapsedTime: 26.5 seconds RetCode: 0 Status: OK