Package: escape Version: 2.6.1 Command: /home/biocbuild/bbs-3.22-bioc/R/bin/R CMD build --keep-empty-dirs --no-resave-data --md5 escape StartedAt: 2025-11-05 17:43:06 -0500 (Wed, 05 Nov 2025) EndedAt: 2025-11-05 17:44:18 -0500 (Wed, 05 Nov 2025) EllapsedTime: 72.1 seconds RetCode: 0 Status: OK PackageFile: escape_2.6.1.tar.gz PackageFileSize: 1.603 MiB