Package: esATAC Version: 1.32.0 Command: /home/biocbuild/bbs-3.22-bioc/R/bin/R CMD INSTALL esATAC StartedAt: 2025-11-11 16:05:08 -0500 (Tue, 11 Nov 2025) EndedAt: 2025-11-11 16:06:34 -0500 (Tue, 11 Nov 2025) EllapsedTime: 86.0 seconds RetCode: 0 Status: OK