Package: erccdashboard Version: 1.44.0 Command: /home/biocbuild/bbs-3.22-bioc/R/bin/R CMD build --keep-empty-dirs --no-resave-data --md5 erccdashboard StartedAt: 2025-11-11 17:38:47 -0500 (Tue, 11 Nov 2025) EndedAt: 2025-11-11 17:39:35 -0500 (Tue, 11 Nov 2025) EllapsedTime: 48.0 seconds RetCode: 0 Status: OK PackageFile: erccdashboard_1.44.0.tar.gz PackageFileSize: 2.032 MiB