Package: erccdashboard Version: 1.42.0 Command: /home/biocbuild/bbs-3.21-bioc/R/bin/R CMD build --keep-empty-dirs --no-resave-data erccdashboard StartedAt: 2025-10-15 17:26:13 -0400 (Wed, 15 Oct 2025) EndedAt: 2025-10-15 17:27:03 -0400 (Wed, 15 Oct 2025) EllapsedTime: 50.1 seconds RetCode: 0 Status: OK PackageFile: erccdashboard_1.42.0.tar.gz PackageFileSize: 2.031 MiB