Package: erccdashboard Version: 1.44.0 Command: rm -rf erccdashboard.buildbin-libdir && mkdir erccdashboard.buildbin-libdir && /Users/biocbuild/BBS/utils/build-universal.sh erccdashboard_1.44.0.tar.gz /Library/Frameworks/R.framework/Resources/bin/R erccdashboard.buildbin-libdir StartedAt: 2025-11-04 01:39:21 -0500 (Tue, 04 Nov 2025) EndedAt: 2025-11-04 01:39:37 -0500 (Tue, 04 Nov 2025) EllapsedTime: 16.2 seconds RetCode: 0 Status: OK PackageFile: erccdashboard_1.44.0.tgz PackageFileSize: 2.655 MiB