Package: erccdashboard Version: 1.42.0 Command: /home/biocbuild/R/R/bin/R CMD INSTALL erccdashboard StartedAt: 2025-10-02 20:19:58 -0000 (Thu, 02 Oct 2025) EndedAt: 2025-10-02 20:20:08 -0000 (Thu, 02 Oct 2025) EllapsedTime: 10.0 seconds RetCode: 0 Status: OK