Package: erccdashboard Version: 1.42.0 Command: /home/biocbuild/R/R/bin/R CMD build --keep-empty-dirs --no-resave-data erccdashboard StartedAt: 2025-10-03 00:48:43 -0000 (Fri, 03 Oct 2025) EndedAt: 2025-10-03 00:49:46 -0000 (Fri, 03 Oct 2025) EllapsedTime: 63.0 seconds RetCode: 0 Status: OK PackageFile: erccdashboard_1.42.0.tar.gz PackageFileSize: 2.064 MiB