Package: erccdashboard Version: 1.42.0 Command: rm -rf erccdashboard.buildbin-libdir && mkdir erccdashboard.buildbin-libdir && /Users/biocbuild/BBS/utils/build-universal.sh erccdashboard_1.42.0.tar.gz /Library/Frameworks/R.framework/Resources/bin/R erccdashboard.buildbin-libdir StartedAt: 2025-04-21 22:34:37 -0400 (Mon, 21 Apr 2025) EndedAt: 2025-04-21 22:34:41 -0400 (Mon, 21 Apr 2025) EllapsedTime: 4.1 seconds RetCode: 0 Status: OK PackageFile: erccdashboard_1.42.0.tgz PackageFileSize: 2.666 MiB