Package: erccdashboard Version: 1.42.0 Command: /Library/Frameworks/R.framework/Resources/bin/R CMD build --keep-empty-dirs --no-resave-data erccdashboard StartedAt: 2025-10-14 00:08:23 -0400 (Tue, 14 Oct 2025) EndedAt: 2025-10-14 00:09:23 -0400 (Tue, 14 Oct 2025) EllapsedTime: 60.6 seconds RetCode: 0 Status: OK PackageFile: erccdashboard_1.42.0.tar.gz PackageFileSize: 2.134 MiB