Package: epivizrStandalone Version: 1.38.0 Command: /home/biocbuild/bbs-3.22-bioc/R/bin/R CMD INSTALL epivizrStandalone StartedAt: 2025-11-03 15:47:35 -0500 (Mon, 03 Nov 2025) EndedAt: 2025-11-03 15:48:19 -0500 (Mon, 03 Nov 2025) EllapsedTime: 43.5 seconds RetCode: 0 Status: OK