Package: epivizrStandalone Version: 1.38.0 Command: /home/biocbuild/bbs-3.22-bioc/R/bin/R CMD build --keep-empty-dirs --no-resave-data --md5 epivizrStandalone StartedAt: 2025-11-03 17:35:55 -0500 (Mon, 03 Nov 2025) EndedAt: 2025-11-03 17:36:36 -0500 (Mon, 03 Nov 2025) EllapsedTime: 41.0 seconds RetCode: 0 Status: OK PackageFile: epivizrStandalone_1.38.0.tar.gz PackageFileSize: 220.5 KiB