Package: epivizrServer Version: 1.38.0 Command: /home/biocbuild/bbs-3.22-bioc/R/bin/R CMD INSTALL epivizrServer StartedAt: 2025-11-11 15:08:04 -0500 (Tue, 11 Nov 2025) EndedAt: 2025-11-11 15:08:17 -0500 (Tue, 11 Nov 2025) EllapsedTime: 12.4 seconds RetCode: 0 Status: OK