Package: epivizrServer Version: 1.38.0 Command: /home/biocbuild/bbs-3.22-bioc/R/bin/R CMD build --keep-empty-dirs --no-resave-data --md5 epivizrServer StartedAt: 2025-11-11 17:38:09 -0500 (Tue, 11 Nov 2025) EndedAt: 2025-11-11 17:38:15 -0500 (Tue, 11 Nov 2025) EllapsedTime: 6.0 seconds RetCode: 0 Status: OK PackageFile: epivizrServer_1.38.0.tar.gz PackageFileSize: 230.9 KiB