Package: epivizrServer Version: 1.38.0 Command: /Library/Frameworks/R.framework/Resources/bin/R CMD INSTALL epivizrServer StartedAt: 2025-11-10 15:02:18 -0500 (Mon, 10 Nov 2025) EndedAt: 2025-11-10 15:02:23 -0500 (Mon, 10 Nov 2025) EllapsedTime: 5.2 seconds RetCode: 0 Status: OK